BEGIN:VCALENDAR
VERSION:2.0
PRODID:-//Troop 111 - ECPv6.15.20//NONSGML v1.0//EN
CALSCALE:GREGORIAN
METHOD:PUBLISH
X-WR-CALNAME:Troop 111
X-ORIGINAL-URL:https://bsa-troop111.org
X-WR-CALDESC:Events for Troop 111
REFRESH-INTERVAL;VALUE=DURATION:PT1H
X-Robots-Tag:noindex
X-PUBLISHED-TTL:PT1H
BEGIN:VTIMEZONE
TZID:America/New_York
BEGIN:DAYLIGHT
TZOFFSETFROM:-0500
TZOFFSETTO:-0400
TZNAME:EDT
DTSTART:20250309T070000
END:DAYLIGHT
BEGIN:STANDARD
TZOFFSETFROM:-0400
TZOFFSETTO:-0500
TZNAME:EST
DTSTART:20251102T060000
END:STANDARD
BEGIN:DAYLIGHT
TZOFFSETFROM:-0500
TZOFFSETTO:-0400
TZNAME:EDT
DTSTART:20260308T070000
END:DAYLIGHT
BEGIN:STANDARD
TZOFFSETFROM:-0400
TZOFFSETTO:-0500
TZNAME:EST
DTSTART:20261101T060000
END:STANDARD
BEGIN:DAYLIGHT
TZOFFSETFROM:-0500
TZOFFSETTO:-0400
TZNAME:EDT
DTSTART:20270314T070000
END:DAYLIGHT
BEGIN:STANDARD
TZOFFSETFROM:-0400
TZOFFSETTO:-0500
TZNAME:EST
DTSTART:20271107T060000
END:STANDARD
END:VTIMEZONE
BEGIN:VEVENT
DTSTART;TZID=America/New_York:20260504T190000
DTEND;TZID=America/New_York:20260504T200000
DTSTAMP:20260424T084658
CREATED:20260104T033804Z
LAST-MODIFIED:20260104T033809Z
UID:2773-1777921200-1777924800@bsa-troop111.org
SUMMARY:PLC Meeting | 05.04
DESCRIPTION:Plan the itinerary for the Troop Meetings for the next month. PLC attendance is required\, all troop members are encouraged to attend.
URL:https://bsa-troop111.org/calendar/plc-meeting-05-04/
LOCATION:Grace Community Church\, 5146 Dickerson Road\, Charlottesville\, VA\, 22911\, United States
CATEGORIES:Patrol Leaders' Council
ATTACH;FMTTYPE=image/jpeg:https://bsa-troop111.org/wp-content/uploads/2024/02/t11-generic_event-2000x667-1.jpg
END:VEVENT
BEGIN:VEVENT
DTSTART;TZID=America/New_York:20260508T180000
DTEND;TZID=America/New_York:20260510T110000
DTSTAMP:20260424T084658
CREATED:20260104T050951Z
LAST-MODIFIED:20260104T050956Z
UID:2815-1778263200-1778410800@bsa-troop111.org
SUMMARY:Spring Backpacker
DESCRIPTION:Camping Calendar 2026 – More Details to Come \n\n\n\n\nBackpacker Pack List
URL:https://bsa-troop111.org/calendar/spring-backpacker/
CATEGORIES:Troop Campout
ATTACH;FMTTYPE=image/jpeg:https://bsa-troop111.org/wp-content/uploads/2024/02/t11-generic_event-2000x667-1.jpg
END:VEVENT
BEGIN:VEVENT
DTSTART;TZID=America/New_York:20260601T190000
DTEND;TZID=America/New_York:20260601T200000
DTSTAMP:20260424T084658
CREATED:20260104T033834Z
LAST-MODIFIED:20260104T033839Z
UID:2774-1780340400-1780344000@bsa-troop111.org
SUMMARY:PLC Meeting | 06.01
DESCRIPTION:Plan the itinerary for the Troop Meetings for the next month. PLC attendance is required\, all troop members are encouraged to attend.
URL:https://bsa-troop111.org/calendar/plc-meeting-06-01/
LOCATION:Grace Community Church\, 5146 Dickerson Road\, Charlottesville\, VA\, 22911\, United States
CATEGORIES:Patrol Leaders' Council
ATTACH;FMTTYPE=image/jpeg:https://bsa-troop111.org/wp-content/uploads/2024/02/t11-generic_event-2000x667-1.jpg
END:VEVENT
BEGIN:VEVENT
DTSTART;TZID=America/New_York:20260628T120000
DTEND;TZID=America/New_York:20260704T120000
DTSTAMP:20260424T084658
CREATED:20260104T051411Z
LAST-MODIFIED:20260104T051416Z
UID:2833-1782648000-1783166400@bsa-troop111.org
SUMMARY:Summer Camp 2026
DESCRIPTION:Camping Calendar 2026 – More Details to Come \n\n\n\n\nSummer Camp Pack List
URL:https://bsa-troop111.org/calendar/summer-camp-2026/
LOCATION:Camp Shenandoah\, 222 Boy Scout Lane\, Swoope\, Virginia\, 24479
CATEGORIES:Troop Campout
ATTACH;FMTTYPE=image/jpeg:https://bsa-troop111.org/wp-content/uploads/2023/10/3x1-camp_shenandoah.jpg
END:VEVENT
BEGIN:VEVENT
DTSTART;TZID=America/New_York:20260706T190000
DTEND;TZID=America/New_York:20260706T200000
DTSTAMP:20260424T084658
CREATED:20260104T033931Z
LAST-MODIFIED:20260104T033935Z
UID:2775-1783364400-1783368000@bsa-troop111.org
SUMMARY:PLC Meeting | 07.06
DESCRIPTION:Plan the itinerary for the Troop Meetings for the next month. PLC attendance is required\, all troop members are encouraged to attend.
URL:https://bsa-troop111.org/calendar/plc-meeting-07-06/
LOCATION:Grace Community Church\, 5146 Dickerson Road\, Charlottesville\, VA\, 22911\, United States
CATEGORIES:Patrol Leaders' Council
ATTACH;FMTTYPE=image/jpeg:https://bsa-troop111.org/wp-content/uploads/2024/02/t11-generic_event-2000x667-1.jpg
END:VEVENT
BEGIN:VEVENT
DTSTART;TZID=America/New_York:20260717T080000
DTEND;TZID=America/New_York:20260718T110000
DTSTAMP:20260424T084658
CREATED:20260104T051554Z
LAST-MODIFIED:20260104T051559Z
UID:2834-1784275200-1784372400@bsa-troop111.org
SUMMARY:Patrol Choice Campout
DESCRIPTION:Camping Calendar 2026 – More Details to Come \n\n\n\n\nCampout Pack List
URL:https://bsa-troop111.org/calendar/patrol-choice-campout/
CATEGORIES:Troop Campout
ATTACH;FMTTYPE=image/jpeg:https://bsa-troop111.org/wp-content/uploads/2024/02/t11-generic_event-2000x667-1.jpg
END:VEVENT
BEGIN:VEVENT
DTSTART;TZID=America/New_York:20260803T190000
DTEND;TZID=America/New_York:20260803T200000
DTSTAMP:20260424T084658
CREATED:20260104T034708Z
LAST-MODIFIED:20260104T034712Z
UID:2783-1785783600-1785787200@bsa-troop111.org
SUMMARY:PLC Meeting | 08.03
DESCRIPTION:Plan the itinerary for the Troop Meetings for the next month. PLC attendance is required\, all troop members are encouraged to attend.
URL:https://bsa-troop111.org/calendar/plc-meeting-08-03/
LOCATION:Grace Community Church\, 5146 Dickerson Road\, Charlottesville\, VA\, 22911\, United States
CATEGORIES:Patrol Leaders' Council
ATTACH;FMTTYPE=image/jpeg:https://bsa-troop111.org/wp-content/uploads/2024/02/t11-generic_event-2000x667-1.jpg
END:VEVENT
BEGIN:VEVENT
DTSTART;TZID=America/New_York:20260807T180000
DTEND;TZID=America/New_York:20260809T110000
DTSTAMP:20260424T084658
CREATED:20260104T051724Z
LAST-MODIFIED:20260104T051857Z
UID:2837-1786125600-1786273200@bsa-troop111.org
SUMMARY:Canoe Trip
DESCRIPTION:Camping Calendar 2026 – More Details to Come \n\n\n\n\nCampout Pack List
URL:https://bsa-troop111.org/calendar/canoe-trip-3/
CATEGORIES:Troop Campout
ATTACH;FMTTYPE=image/jpeg:https://bsa-troop111.org/wp-content/uploads/2024/02/t11-generic_event-2000x667-1.jpg
END:VEVENT
BEGIN:VEVENT
DTSTART;TZID=America/New_York:20260907T190000
DTEND;TZID=America/New_York:20260907T200000
DTSTAMP:20260424T084658
CREATED:20260104T034731Z
LAST-MODIFIED:20260104T034737Z
UID:2784-1788807600-1788811200@bsa-troop111.org
SUMMARY:PLC Meeting | 09.07
DESCRIPTION:Plan the itinerary for the Troop Meetings for the next month. PLC attendance is required\, all troop members are encouraged to attend.
URL:https://bsa-troop111.org/calendar/plc-meeting-09-07/
LOCATION:Grace Community Church\, 5146 Dickerson Road\, Charlottesville\, VA\, 22911\, United States
CATEGORIES:Patrol Leaders' Council
ATTACH;FMTTYPE=image/jpeg:https://bsa-troop111.org/wp-content/uploads/2024/02/t11-generic_event-2000x667-1.jpg
END:VEVENT
BEGIN:VEVENT
DTSTART;TZID=America/New_York:20260918T180000
DTEND;TZID=America/New_York:20260920T110000
DTSTAMP:20260424T084658
CREATED:20260104T051816Z
LAST-MODIFIED:20260104T052755Z
UID:2838-1789754400-1789902000@bsa-troop111.org
SUMMARY:Camp Crockett
DESCRIPTION:Camping Calendar 2026 – More Details to Come \n\n\n\n\nCampout Pack List
URL:https://bsa-troop111.org/calendar/camp-crockett/
LOCATION:Hoover Ridge Park\, 199 Primary School Drive\, Madison\, VA\, 22727\, United States
CATEGORIES:Troop Campout
ATTACH;FMTTYPE=image/jpeg:https://bsa-troop111.org/wp-content/uploads/2024/01/3x1-camp_crockett-1536x512-1.jpg
END:VEVENT
BEGIN:VEVENT
DTSTART;TZID=America/New_York:20261002T180000
DTEND;TZID=America/New_York:20261004T110000
DTSTAMP:20260424T084658
CREATED:20260104T052021Z
LAST-MODIFIED:20260104T062437Z
UID:2842-1790964000-1791111600@bsa-troop111.org
SUMMARY:Apple Harvest
DESCRIPTION:Camping Calendar 2026 – More Details to Come \n\n\n\n\nCampout Pack List
URL:https://bsa-troop111.org/calendar/apple-harvest-4/
LOCATION:Camp Shenandoah\, 222 Boy Scout Lane\, Swoope\, Virginia\, 24479
CATEGORIES:Troop Campout
ATTACH;FMTTYPE=image/jpeg:https://bsa-troop111.org/wp-content/uploads/2023/10/3x1-camp_shenandoah.jpg
END:VEVENT
BEGIN:VEVENT
DTSTART;TZID=America/New_York:20261005T190000
DTEND;TZID=America/New_York:20261005T200000
DTSTAMP:20260424T084658
CREATED:20260104T034803Z
LAST-MODIFIED:20260104T034808Z
UID:2786-1791226800-1791230400@bsa-troop111.org
SUMMARY:PLC Meeting | 10.05
DESCRIPTION:Plan the itinerary for the Troop Meetings for the next month. PLC attendance is required\, all troop members are encouraged to attend.
URL:https://bsa-troop111.org/calendar/plc-meeting-10-05/
LOCATION:Grace Community Church\, 5146 Dickerson Road\, Charlottesville\, VA\, 22911\, United States
CATEGORIES:Patrol Leaders' Council
ATTACH;FMTTYPE=image/jpeg:https://bsa-troop111.org/wp-content/uploads/2024/02/t11-generic_event-2000x667-1.jpg
END:VEVENT
BEGIN:VEVENT
DTSTART;TZID=America/New_York:20261102T190000
DTEND;TZID=America/New_York:20261102T200000
DTSTAMP:20260424T084658
CREATED:20260104T034831Z
LAST-MODIFIED:20260104T034839Z
UID:2789-1793646000-1793649600@bsa-troop111.org
SUMMARY:PLC Meeting | 11.02
DESCRIPTION:Plan the itinerary for the Troop Meetings for the next month. PLC attendance is required\, all troop members are encouraged to attend.
URL:https://bsa-troop111.org/calendar/plc-meeting-11-02/
LOCATION:Grace Community Church\, 5146 Dickerson Road\, Charlottesville\, VA\, 22911\, United States
CATEGORIES:Patrol Leaders' Council
ATTACH;FMTTYPE=image/jpeg:https://bsa-troop111.org/wp-content/uploads/2024/02/t11-generic_event-2000x667-1.jpg
END:VEVENT
BEGIN:VEVENT
DTSTART;TZID=America/New_York:20261106T180000
DTEND;TZID=America/New_York:20261108T110000
DTSTAMP:20260424T084658
CREATED:20260104T052454Z
LAST-MODIFIED:20260104T052459Z
UID:2843-1793988000-1794135600@bsa-troop111.org
SUMMARY:Mount Pleasant Backpacker
DESCRIPTION:Camping Calendar 2026 – More Details to Come \n\n\n\n\nBackpacker Pack List
URL:https://bsa-troop111.org/calendar/mount-pleasant-backpacker/
CATEGORIES:Troop Campout
ATTACH;FMTTYPE=image/jpeg:https://bsa-troop111.org/wp-content/uploads/2024/02/t11-generic_event-2000x667-1.jpg
END:VEVENT
BEGIN:VEVENT
DTSTART;TZID=America/New_York:20261204T180000
DTEND;TZID=America/New_York:20261206T110000
DTSTAMP:20260424T084658
CREATED:20260104T052145Z
LAST-MODIFIED:20260104T052149Z
UID:2841-1796407200-1796554800@bsa-troop111.org
SUMMARY:No Stove Wilderness Survival
DESCRIPTION:Camping Calendar 2026 – More Details to Come \n\n\n\n\nCampout Pack List
URL:https://bsa-troop111.org/calendar/no-stove-wilderness-survival/
LOCATION:Camp Shenandoah\, 222 Boy Scout Lane\, Swoope\, Virginia\, 24479
CATEGORIES:Troop Campout
ATTACH;FMTTYPE=image/jpeg:https://bsa-troop111.org/wp-content/uploads/2023/10/3x1-camp_shenandoah.jpg
END:VEVENT
BEGIN:VEVENT
DTSTART;TZID=America/New_York:20261207T190000
DTEND;TZID=America/New_York:20261207T200000
DTSTAMP:20260424T084658
CREATED:20260104T034620Z
LAST-MODIFIED:20260104T034623Z
UID:2790-1796670000-1796673600@bsa-troop111.org
SUMMARY:PLC Meeting | 12.07
DESCRIPTION:Plan the itinerary for the Troop Meetings for the next month. PLC attendance is required\, all troop members are encouraged to attend.
URL:https://bsa-troop111.org/calendar/plc-meeting-12-07/
LOCATION:Grace Community Church\, 5146 Dickerson Road\, Charlottesville\, VA\, 22911\, United States
CATEGORIES:Patrol Leaders' Council
ATTACH;FMTTYPE=image/jpeg:https://bsa-troop111.org/wp-content/uploads/2024/02/t11-generic_event-2000x667-1.jpg
END:VEVENT
END:VCALENDAR